BEGIN:VCALENDAR
VERSION:2.0
PRODID:-//Freunde des Historischen Archivs der Stadt Köln e.V. - ECPv6.15.20//NONSGML v1.0//EN
CALSCALE:GREGORIAN
METHOD:PUBLISH
X-ORIGINAL-URL:https://www.freunde-des-historischen-archivs.de
X-WR-CALDESC:Veranstaltungen für Freunde des Historischen Archivs der Stadt Köln e.V.
REFRESH-INTERVAL;VALUE=DURATION:PT1H
X-Robots-Tag:noindex
X-PUBLISHED-TTL:PT1H
BEGIN:VTIMEZONE
TZID:Europe/Amsterdam
BEGIN:DAYLIGHT
TZOFFSETFROM:+0100
TZOFFSETTO:+0200
TZNAME:CEST
DTSTART:20250330T010000
END:DAYLIGHT
BEGIN:STANDARD
TZOFFSETFROM:+0200
TZOFFSETTO:+0100
TZNAME:CET
DTSTART:20251026T010000
END:STANDARD
BEGIN:DAYLIGHT
TZOFFSETFROM:+0100
TZOFFSETTO:+0200
TZNAME:CEST
DTSTART:20260329T010000
END:DAYLIGHT
BEGIN:STANDARD
TZOFFSETFROM:+0200
TZOFFSETTO:+0100
TZNAME:CET
DTSTART:20261025T010000
END:STANDARD
BEGIN:DAYLIGHT
TZOFFSETFROM:+0100
TZOFFSETTO:+0200
TZNAME:CEST
DTSTART:20270328T010000
END:DAYLIGHT
BEGIN:STANDARD
TZOFFSETFROM:+0200
TZOFFSETTO:+0100
TZNAME:CET
DTSTART:20271031T010000
END:STANDARD
END:VTIMEZONE
BEGIN:VEVENT
DTSTART;TZID=Europe/Amsterdam:20260204T180000
DTEND;TZID=Europe/Amsterdam:20260204T193000
DTSTAMP:20260420T013055
CREATED:20251216T193655Z
LAST-MODIFIED:20251216T193655Z
UID:7616-1770228000-1770233400@www.freunde-des-historischen-archivs.de
SUMMARY:Vortrag: Konrad Adenauer und seine Einstellung zu Frauen in der Politik
DESCRIPTION:Konrad Adenauer (1876 bis 1967)\, der erste Bundeskanzler der Bundesrepublik Deutschland\, gilt als einer der prägenden Staatsmänner der Nachkriegszeit. Die Historikerin und Helene-Weber-Expertin Antonia Schilling-Malottke nimmt in ihrem Vortrag Adenauers Einstellung zu Frauen in der Politik in den Blick. \nWir laden Sie dazu ein\, den Blick auf Konrad Adenauer um eine bisher wenig beleuchtete Facette zu erweitern und die Rolle von Frauen in der frühen Bundesrepublik neu zu betrachten. \nUm Anmeldung zu den Veranstaltungen wird gebeten. Nutzen Sie hierzu bitte AnmeldungArchiv@stadt-koeln.de.
URL:https://www.freunde-des-historischen-archivs.de/veranstaltung/vortrag-konrad-adenauer-und-seine-einstellung-zu-frauen-in-der-politik/
LOCATION:Archivgebäude Eifelwall\, Eifelwall 5\, Köln\, 50675
CATEGORIES:Veranstaltung
ATTACH;FMTTYPE=image/jpeg:https://www.freunde-des-historischen-archivs.de/wp-content/uploads/2025/10/erste-frauenbewegung-banner.jpg
ORGANIZER;CN="Historisches Archiv der Stadt K%C3%B6ln mit Rheinischem Bildarchiv":MAILTO:anmeldungarchiv@stadt-koeln.de
END:VEVENT
BEGIN:VEVENT
DTSTART;TZID=Europe/Amsterdam:20260225T180000
DTEND;TZID=Europe/Amsterdam:20260225T193000
DTSTAMP:20260420T013055
CREATED:20251216T193323Z
LAST-MODIFIED:20251216T193359Z
UID:7618-1772042400-1772047800@www.freunde-des-historischen-archivs.de
SUMMARY:Zwischen Sommerfest und Imperialismus
DESCRIPTION:Vortrag: Zwischen Sommerfest und Imperialismus – Der Frauenbund der Deutschen Kolonialgesellschaft in Köln \nEin ungewohnter Blick auf Köln als Hochburg der Kolonialbegeisterung. Der Kölner Historiker und Archivar Dr. Ulrich Soénius erläutert in seinem Vortrag\, das Wirken des Kölner Ortsverbands des Frauenbundes der Deutschen Kolonialgesellschaft\, sowie dessen Rolle im nationalkonservativen Bürgertum.
URL:https://www.freunde-des-historischen-archivs.de/veranstaltung/vortrag-zwischen-sommerfest-und-imperialismus-der-frauenbund-der-deutschen-kolonialgesellschaft-in-koeln/
LOCATION:Archivgebäude Eifelwall\, Eifelwall 5\, Köln\, 50675
CATEGORIES:Veranstaltung
ATTACH;FMTTYPE=image/jpeg:https://www.freunde-des-historischen-archivs.de/wp-content/uploads/2025/10/erste-frauenbewegung-banner.jpg
ORGANIZER;CN="Historisches Archiv der Stadt K%C3%B6ln mit Rheinischem Bildarchiv":MAILTO:anmeldungarchiv@stadt-koeln.de
END:VEVENT
END:VCALENDAR