BEGIN:VCALENDAR
VERSION:2.0
PRODID:-//Freunde des Historischen Archivs der Stadt Köln e.V. - ECPv6.15.20//NONSGML v1.0//EN
CALSCALE:GREGORIAN
METHOD:PUBLISH
X-ORIGINAL-URL:https://www.freunde-des-historischen-archivs.de
X-WR-CALDESC:Veranstaltungen für Freunde des Historischen Archivs der Stadt Köln e.V.
REFRESH-INTERVAL;VALUE=DURATION:PT1H
X-Robots-Tag:noindex
X-PUBLISHED-TTL:PT1H
BEGIN:VTIMEZONE
TZID:Europe/Amsterdam
BEGIN:DAYLIGHT
TZOFFSETFROM:+0100
TZOFFSETTO:+0200
TZNAME:CEST
DTSTART:20220327T010000
END:DAYLIGHT
BEGIN:STANDARD
TZOFFSETFROM:+0200
TZOFFSETTO:+0100
TZNAME:CET
DTSTART:20221030T010000
END:STANDARD
BEGIN:DAYLIGHT
TZOFFSETFROM:+0100
TZOFFSETTO:+0200
TZNAME:CEST
DTSTART:20230326T010000
END:DAYLIGHT
BEGIN:STANDARD
TZOFFSETFROM:+0200
TZOFFSETTO:+0100
TZNAME:CET
DTSTART:20231029T010000
END:STANDARD
BEGIN:DAYLIGHT
TZOFFSETFROM:+0100
TZOFFSETTO:+0200
TZNAME:CEST
DTSTART:20240331T010000
END:DAYLIGHT
BEGIN:STANDARD
TZOFFSETFROM:+0200
TZOFFSETTO:+0100
TZNAME:CET
DTSTART:20241027T010000
END:STANDARD
END:VTIMEZONE
BEGIN:VEVENT
DTSTART;TZID=Europe/Amsterdam:20230901T190000
DTEND;TZID=Europe/Amsterdam:20230901T210000
DTSTAMP:20260423T063732
CREATED:20230802T195152Z
LAST-MODIFIED:20230808T164057Z
UID:7135-1693594800-1693602000@www.freunde-des-historischen-archivs.de
SUMMARY:Kurzfilmprogramm historischer Filmbilder
DESCRIPTION:Köln im Film mit Begrüßung Dr. Johanna Gummlich
URL:https://www.freunde-des-historischen-archivs.de/veranstaltung/kurzfilmprogramm-historischer-filmbilder/
LOCATION:Archivgebäude Eifelwall\, Eifelwall 5\, Köln\, 50675
CATEGORIES:Filmabend
ATTACH;FMTTYPE=image/jpeg:https://www.freunde-des-historischen-archivs.de/wp-content/uploads/2023/08/bilder-kunst-kultur-rba-ausstellung_1024.jpg
END:VEVENT
BEGIN:VEVENT
DTSTART;TZID=Europe/Amsterdam:20230926T180000
DTEND;TZID=Europe/Amsterdam:20230926T200000
DTSTAMP:20260423T063732
CREATED:20230915T153658Z
LAST-MODIFIED:20230915T154646Z
UID:7140-1695751200-1695758400@www.freunde-des-historischen-archivs.de
SUMMARY:„Archivrecherche als Autor“ mit Anselm Weyer
DESCRIPTION:Foto: Nina Gschlößl\n Das Historische Archiv mit Rheinischem Bildarchiv lädt am Dienstag\, 26. September 2023\, 18 Uhr\, zum Werkstattgespräch „Archivrecherche als Autor“ mit Anselm Weyer in das Archivgebäude am Eifelwall 5\, 50674 Köln\, ein. \nNach einer Einführung in das Thema durch Jens Meifert\, Leiter der Lokalredaktion Köln der Kölnischen Rundschau\, spricht der Autor Anselm Weyer mit dem stellvertretenden Archivleiter\, Ulrich Fischer\, über die Hinter- und Beweggründe sowie die umfangreiche Recherchearbeit zu seinen zwei neuesten True-Crime-Büchern. \nAusgangspunkt der Bücher „Insel der Seligen“ und „Wie die ruchlosen Brüder Heitger und ihre Spießgesellen eine Blutspur durch halb Deutschland zogen“ ist Weyers Artikelserie „Babylon Köln“ in der Kölnischen Rundschau\, die echte Kriminalfälle zur Zeit der Weimarer Republik behandelt. Zudem liest Anselm Weyer aus beiden Büchern und beantwortet Fragen des Publikums. \nIm Gespräch mit Ulrich Fischer erzählt Weyer\, welche Quellen er während seiner Recherche nutzte\, um eine wirklich den Tatsachen entsprechende Geschichte schreiben zu können. Darüber hinaus stellt er dar\, wie er unter anderem während der Corona-Zeit die digitalen Angebote des Historischen Archivs mit Rheinischem Bildarchiv für seine Arbeit nutzte. \nBesucher*innen haben nach dem Werkstattgespräch die Möglichkeit\, die Bücher zu erwerben und sie von Anselm Weyer signieren zu lassen. \nDer Eintritt ist frei. \nUm Anmeldung zu den Veranstaltungen wird gebeten. Nutzen Sie hierzu bitte AnmeldungArchiv@stadt-koeln.de.
URL:https://www.freunde-des-historischen-archivs.de/veranstaltung/archivrecherche-als-autor-mit-anselm-weyer/
LOCATION:Archivgebäude Eifelwall\, Eifelwall 5\, Köln\, 50675
ATTACH;FMTTYPE=image/jpeg:https://www.freunde-des-historischen-archivs.de/wp-content/uploads/2023/09/309562_Brueder_Heitger_3D.jpg
ORGANIZER;CN="Historisches Archiv der Stadt K%C3%B6ln mit Rheinischem Bildarchiv":MAILTO:anmeldungarchiv@stadt-koeln.de
END:VEVENT
END:VCALENDAR