BEGIN:VCALENDAR
VERSION:2.0
PRODID:-//Freunde des Historischen Archivs der Stadt Köln e.V. - ECPv6.15.20//NONSGML v1.0//EN
CALSCALE:GREGORIAN
METHOD:PUBLISH
X-WR-CALNAME:Freunde des Historischen Archivs der Stadt Köln e.V.
X-ORIGINAL-URL:https://www.freunde-des-historischen-archivs.de
X-WR-CALDESC:Veranstaltungen für Freunde des Historischen Archivs der Stadt Köln e.V.
REFRESH-INTERVAL;VALUE=DURATION:PT1H
X-Robots-Tag:noindex
X-PUBLISHED-TTL:PT1H
BEGIN:VTIMEZONE
TZID:Europe/Amsterdam
BEGIN:DAYLIGHT
TZOFFSETFROM:+0100
TZOFFSETTO:+0200
TZNAME:CEST
DTSTART:20250330T010000
END:DAYLIGHT
BEGIN:STANDARD
TZOFFSETFROM:+0200
TZOFFSETTO:+0100
TZNAME:CET
DTSTART:20251026T010000
END:STANDARD
BEGIN:DAYLIGHT
TZOFFSETFROM:+0100
TZOFFSETTO:+0200
TZNAME:CEST
DTSTART:20260329T010000
END:DAYLIGHT
BEGIN:STANDARD
TZOFFSETFROM:+0200
TZOFFSETTO:+0100
TZNAME:CET
DTSTART:20261025T010000
END:STANDARD
BEGIN:DAYLIGHT
TZOFFSETFROM:+0100
TZOFFSETTO:+0200
TZNAME:CEST
DTSTART:20270328T010000
END:DAYLIGHT
BEGIN:STANDARD
TZOFFSETFROM:+0200
TZOFFSETTO:+0100
TZNAME:CET
DTSTART:20271031T010000
END:STANDARD
END:VTIMEZONE
BEGIN:VEVENT
DTSTART;TZID=Europe/Amsterdam:20260318T180000
DTEND;TZID=Europe/Amsterdam:20260318T193000
DTSTAMP:20260420T000254
CREATED:20251216T192443Z
LAST-MODIFIED:20251216T192526Z
UID:7622-1773856800-1773862200@www.freunde-des-historischen-archivs.de
SUMMARY:Kommt nach Den Haag! Wir fordern Frieden!
DESCRIPTION:Szenische Lesung mit Musik: Kommt nach Den Haag! Wir fordern Frieden! 110 Jahre Frauenkongress – und heute? \n\n\nTauchen Sie ein in den internationalen Frauenfriedenskongress 1915 in Den Haag und erfahren Sie\, was Frauen heute aus internationaler Perspektive denken und tun. Stella Shcherbatova\, psychologische Beraterin des EL-DE-Hause für Opfer antisemitischer Übergriffe\, und Almuth Voss\, ehemalige Berufsschulpfarrerin\, werden am E-Piano von Dina Goncharova begleitet. \nUm Anmeldung zu den Veranstaltungen wird gebeten. Nutzen Sie hierzu bitte AnmeldungArchiv@stadt-koeln.de.
URL:https://www.freunde-des-historischen-archivs.de/veranstaltung/kommt-nach-den-haag-wir-fordern-frieden/
LOCATION:Archivgebäude Eifelwall\, Eifelwall 5\, Köln\, 50675
CATEGORIES:Veranstaltung
ATTACH;FMTTYPE=image/jpeg:https://www.freunde-des-historischen-archivs.de/wp-content/uploads/2025/10/erste-frauenbewegung-banner.jpg
ORGANIZER;CN="Historisches Archiv der Stadt K%C3%B6ln mit Rheinischem Bildarchiv":MAILTO:anmeldungarchiv@stadt-koeln.de
END:VEVENT
END:VCALENDAR