BEGIN:VCALENDAR
VERSION:2.0
PRODID:-//Freunde des Historischen Archivs der Stadt Köln e.V. - ECPv6.15.20//NONSGML v1.0//EN
CALSCALE:GREGORIAN
METHOD:PUBLISH
X-ORIGINAL-URL:https://www.freunde-des-historischen-archivs.de
X-WR-CALDESC:Veranstaltungen für Freunde des Historischen Archivs der Stadt Köln e.V.
REFRESH-INTERVAL;VALUE=DURATION:PT1H
X-Robots-Tag:noindex
X-PUBLISHED-TTL:PT1H
BEGIN:VTIMEZONE
TZID:Europe/Amsterdam
BEGIN:DAYLIGHT
TZOFFSETFROM:+0100
TZOFFSETTO:+0200
TZNAME:CEST
DTSTART:20250330T010000
END:DAYLIGHT
BEGIN:STANDARD
TZOFFSETFROM:+0200
TZOFFSETTO:+0100
TZNAME:CET
DTSTART:20251026T010000
END:STANDARD
BEGIN:DAYLIGHT
TZOFFSETFROM:+0100
TZOFFSETTO:+0200
TZNAME:CEST
DTSTART:20260329T010000
END:DAYLIGHT
BEGIN:STANDARD
TZOFFSETFROM:+0200
TZOFFSETTO:+0100
TZNAME:CET
DTSTART:20261025T010000
END:STANDARD
BEGIN:DAYLIGHT
TZOFFSETFROM:+0100
TZOFFSETTO:+0200
TZNAME:CEST
DTSTART:20270328T010000
END:DAYLIGHT
BEGIN:STANDARD
TZOFFSETFROM:+0200
TZOFFSETTO:+0100
TZNAME:CET
DTSTART:20271031T010000
END:STANDARD
END:VTIMEZONE
BEGIN:VEVENT
DTSTART;TZID=Europe/Amsterdam:20260311T180000
DTEND;TZID=Europe/Amsterdam:20260311T193000
DTSTAMP:20260423T121751
CREATED:20260305T194806Z
LAST-MODIFIED:20260305T194806Z
UID:7664-1773252000-1773257400@www.freunde-des-historischen-archivs.de
SUMMARY:Marie Juchacz und Elisabeth Kirschmann-Röhl
DESCRIPTION:Zwei Schwestern für Frauenrechte und Gleichberechtigung\nZwei Frauen\, die sich lange für das Wahlrecht für Frauen eingesetzt haben\, stehen im Mittelpunkt dieses Vortrags von Lydia Struck. \n1919 ist es so weit:  Marie Juchacz und Elisabeth Kirschmann-Röhl ziehen in Folge der Einführung des Frauenwahlrechts als Abgeordnete der SPD für die Bezirke Potsdam und Köln-Aachen ins Parlament. Bereits vorher sind sie als gute Rednerinnen für ihre Partei bekannt. \nDer Vortrag der Kulturanthropologin Lydia Struck\, die auch die Urgroßnichte der beiden Schwestern ist\, nimmt verschiedene Aspekte des Engagements in den Blick: Motivation\, Inhalte\, die Zeit des ersten Weltkriegs und des Nationalsozialismus und nicht zuletzt das Spannungsfeld zwischen politischer Arbeit und Kindererziehung. Im Anschluss gibt es Gelegenheit zum Austausch mit der Vortragenden.
URL:https://www.freunde-des-historischen-archivs.de/veranstaltung/marie-juchacz-und-elisabeth-kirschmann-roehl/
LOCATION:Archivgebäude Eifelwall\, Eifelwall 5\, Köln\, 50675
CATEGORIES:Vortrag
ATTACH;FMTTYPE=image/jpeg:https://www.freunde-des-historischen-archivs.de/wp-content/uploads/2025/10/erste-frauenbewegung-banner.jpg
ORGANIZER;CN="Historisches Archiv der Stadt K%C3%B6ln mit Rheinischem Bildarchiv":MAILTO:anmeldungarchiv@stadt-koeln.de
END:VEVENT
END:VCALENDAR