BEGIN:VCALENDAR
VERSION:2.0
PRODID:-//Freunde des Historischen Archivs der Stadt Köln e.V. - ECPv6.15.20//NONSGML v1.0//EN
CALSCALE:GREGORIAN
METHOD:PUBLISH
X-WR-CALNAME:Freunde des Historischen Archivs der Stadt Köln e.V.
X-ORIGINAL-URL:https://www.freunde-des-historischen-archivs.de
X-WR-CALDESC:Veranstaltungen für Freunde des Historischen Archivs der Stadt Köln e.V.
REFRESH-INTERVAL;VALUE=DURATION:PT1H
X-Robots-Tag:noindex
X-PUBLISHED-TTL:PT1H
BEGIN:VTIMEZONE
TZID:Europe/Amsterdam
BEGIN:DAYLIGHT
TZOFFSETFROM:+0100
TZOFFSETTO:+0200
TZNAME:CEST
DTSTART:20250330T010000
END:DAYLIGHT
BEGIN:STANDARD
TZOFFSETFROM:+0200
TZOFFSETTO:+0100
TZNAME:CET
DTSTART:20251026T010000
END:STANDARD
BEGIN:DAYLIGHT
TZOFFSETFROM:+0100
TZOFFSETTO:+0200
TZNAME:CEST
DTSTART:20260329T010000
END:DAYLIGHT
BEGIN:STANDARD
TZOFFSETFROM:+0200
TZOFFSETTO:+0100
TZNAME:CET
DTSTART:20261025T010000
END:STANDARD
BEGIN:DAYLIGHT
TZOFFSETFROM:+0100
TZOFFSETTO:+0200
TZNAME:CEST
DTSTART:20270328T010000
END:DAYLIGHT
BEGIN:STANDARD
TZOFFSETFROM:+0200
TZOFFSETTO:+0100
TZNAME:CET
DTSTART:20271031T010000
END:STANDARD
END:VTIMEZONE
BEGIN:VEVENT
DTSTART;TZID=Europe/Amsterdam:20260128T180000
DTEND;TZID=Europe/Amsterdam:20260128T193000
DTSTAMP:20260420T025854
CREATED:20251216T193934Z
LAST-MODIFIED:20251216T194027Z
UID:7614-1769623200-1769628600@www.freunde-des-historischen-archivs.de
SUMMARY:Podiumsdiskussion: Frauenbewegung und Frauenrechte in Köln
DESCRIPTION:Die Entwicklung der Frauenbewegung in Köln\, die aktuellen Herausforderungen für Frauenrechte und die Rolle lokaler Persönlichkeiten bei der Förderung von Emanzipation und Gleichstellung sind unter anderem Themen dieser Podiumsdiskussion. \nEs diskutieren: Barbara Schock-Werner\, stellvertretende Vorsitzende des Frauenmediaturms und ehemalige Dombaumeisterin\, Fatima Khan\, freie Autorin und Mitbegründerin des feministischen Literaturfestivals q[lit]*clgn\, sowie Christian Bos\, langjähriger Redakteur des Kölner Stadt-Anzeigers\, unter der Moderation von Swantje Freifrau von Massenbach. \nReflektieren Sie mit diesem spannenden Panel die gegenwärtigen Spannungsfelder und mögliche Zukunftsperspektiven für Frauen. \nUm Anmeldung zu den Veranstaltungen wird gebeten. Nutzen Sie hierzu bitte AnmeldungArchiv@stadt-koeln.de.
URL:https://www.freunde-des-historischen-archivs.de/veranstaltung/podiumsdiskussion-frauenbewegung-und-frauenrechte-in-koeln/
LOCATION:Archivgebäude Eifelwall\, Eifelwall 5\, Köln\, 50675
CATEGORIES:Diskussionsrunde,Veranstaltung
ATTACH;FMTTYPE=image/jpeg:https://www.freunde-des-historischen-archivs.de/wp-content/uploads/2025/10/erste-frauenbewegung-banner.jpg
ORGANIZER;CN="Historisches Archiv der Stadt K%C3%B6ln mit Rheinischem Bildarchiv":MAILTO:anmeldungarchiv@stadt-koeln.de
END:VEVENT
END:VCALENDAR