BEGIN:VCALENDAR
VERSION:2.0
PRODID:-//Freunde des Historischen Archivs der Stadt Köln e.V. - ECPv6.15.20//NONSGML v1.0//EN
CALSCALE:GREGORIAN
METHOD:PUBLISH
X-WR-CALNAME:Freunde des Historischen Archivs der Stadt Köln e.V.
X-ORIGINAL-URL:https://www.freunde-des-historischen-archivs.de
X-WR-CALDESC:Veranstaltungen für Freunde des Historischen Archivs der Stadt Köln e.V.
REFRESH-INTERVAL;VALUE=DURATION:PT1H
X-Robots-Tag:noindex
X-PUBLISHED-TTL:PT1H
BEGIN:VTIMEZONE
TZID:Europe/Amsterdam
BEGIN:DAYLIGHT
TZOFFSETFROM:+0100
TZOFFSETTO:+0200
TZNAME:CEST
DTSTART:20250330T010000
END:DAYLIGHT
BEGIN:STANDARD
TZOFFSETFROM:+0200
TZOFFSETTO:+0100
TZNAME:CET
DTSTART:20251026T010000
END:STANDARD
BEGIN:DAYLIGHT
TZOFFSETFROM:+0100
TZOFFSETTO:+0200
TZNAME:CEST
DTSTART:20260329T010000
END:DAYLIGHT
BEGIN:STANDARD
TZOFFSETFROM:+0200
TZOFFSETTO:+0100
TZNAME:CET
DTSTART:20261025T010000
END:STANDARD
BEGIN:DAYLIGHT
TZOFFSETFROM:+0100
TZOFFSETTO:+0200
TZNAME:CEST
DTSTART:20270328T010000
END:DAYLIGHT
BEGIN:STANDARD
TZOFFSETFROM:+0200
TZOFFSETTO:+0100
TZNAME:CET
DTSTART:20271031T010000
END:STANDARD
END:VTIMEZONE
BEGIN:VEVENT
DTSTART;TZID=Europe/Amsterdam:20260114T180000
DTEND;TZID=Europe/Amsterdam:20260114T193000
DTSTAMP:20260420T043804
CREATED:20251216T194536Z
LAST-MODIFIED:20251216T194536Z
UID:7611-1768413600-1768419000@www.freunde-des-historischen-archivs.de
SUMMARY:Vortrag zur „Kölner Frauen-Zeitung“
DESCRIPTION:Die Kölner Frauen-Zeitung fungierte um 1900 als Familien-\, Frauen- und Anzeigenblatt zugleich und entwickelte sich unter der Leitung von Emma und Ida Wagner zu einem wichtigen Medium der Kölner Frauenbewegung. Themen wie Mädchen- und Frauenbildung\, neue Berufsfelder\, die Situation von Hausfrauen und ein innovativer Stellen- und Wohnungsanzeiger für Frauen machten das Blatt zu einem einzigartigen Forum für bürgerliche Leserinnen\, Dienstmädchen und Arbeiterinnen gleichermaßen. \nDie Historikerin und Lehramtsabsolventin Jana Buchholz hat das Blatt in ihrer Masterarbeit erstmals umfassend untersucht. Der Vortrag verspricht einen lebendigen Einblick in ein Stück Kölner Stadt- und Frauengeschichte und deren gesellschaftliche Veränderungen und Netzwerke in Köln um 1900. \nUm Anmeldung zu den Veranstaltungen wird gebeten. Nutzen Sie hierzu bitte AnmeldungArchiv@stadt-koeln.de.
URL:https://www.freunde-des-historischen-archivs.de/veranstaltung/vortrag-zur-koelner-frauen-zeitung/
LOCATION:Archivgebäude Eifelwall\, Eifelwall 5\, Köln\, 50675
CATEGORIES:Veranstaltung
ATTACH;FMTTYPE=image/jpeg:https://www.freunde-des-historischen-archivs.de/wp-content/uploads/2025/10/erste-frauenbewegung-banner.jpg
ORGANIZER;CN="Historisches Archiv der Stadt K%C3%B6ln mit Rheinischem Bildarchiv":MAILTO:anmeldungarchiv@stadt-koeln.de
END:VEVENT
END:VCALENDAR