BEGIN:VCALENDAR
VERSION:2.0
PRODID:-//Freunde des Historischen Archivs der Stadt Köln e.V. - ECPv6.15.20//NONSGML v1.0//EN
CALSCALE:GREGORIAN
METHOD:PUBLISH
X-ORIGINAL-URL:https://www.freunde-des-historischen-archivs.de
X-WR-CALDESC:Veranstaltungen für Freunde des Historischen Archivs der Stadt Köln e.V.
REFRESH-INTERVAL;VALUE=DURATION:PT1H
X-Robots-Tag:noindex
X-PUBLISHED-TTL:PT1H
BEGIN:VTIMEZONE
TZID:Europe/Amsterdam
BEGIN:DAYLIGHT
TZOFFSETFROM:+0100
TZOFFSETTO:+0200
TZNAME:CEST
DTSTART:20250330T010000
END:DAYLIGHT
BEGIN:STANDARD
TZOFFSETFROM:+0200
TZOFFSETTO:+0100
TZNAME:CET
DTSTART:20251026T010000
END:STANDARD
BEGIN:DAYLIGHT
TZOFFSETFROM:+0100
TZOFFSETTO:+0200
TZNAME:CEST
DTSTART:20260329T010000
END:DAYLIGHT
BEGIN:STANDARD
TZOFFSETFROM:+0200
TZOFFSETTO:+0100
TZNAME:CET
DTSTART:20261025T010000
END:STANDARD
BEGIN:DAYLIGHT
TZOFFSETFROM:+0100
TZOFFSETTO:+0200
TZNAME:CEST
DTSTART:20270328T010000
END:DAYLIGHT
BEGIN:STANDARD
TZOFFSETFROM:+0200
TZOFFSETTO:+0100
TZNAME:CET
DTSTART:20271031T010000
END:STANDARD
END:VTIMEZONE
BEGIN:VEVENT
DTSTART;TZID=Europe/Amsterdam:20260107T180000
DTEND;TZID=Europe/Amsterdam:20260107T193000
DTSTAMP:20260420T055751
CREATED:20251216T194821Z
LAST-MODIFIED:20251216T194821Z
UID:7610-1767808800-1767814200@www.freunde-des-historischen-archivs.de
SUMMARY:Männer in der Ersten Frauenbewegung in Köln
DESCRIPTION:Vortrag: Wegbereiter des Wandels. Männer in der Ersten Frauenbewegung in Köln \nNicht nur Frauen\, auch Männer engagierten sich im Rahmen der ersten Frauenbewegung in Köln. Sie waren Mitglieder in Vereinen\, die sich für mehr Rechte und Möglichkeiten für Mädchen und Frauen einsetzten. Sie hielten Vorträge bei den Vereinen oder schrieben Bücher über die Lage der Frau. \nDr. Daniela Wagner\, Kuratorin der aktuellen Ausstellung\, beleuchtet in ihrem Vortrag die Motive der Männer\, die sich in der ersten Frauenbewegung engagierten\, und die Frage\, warum Frauen dieses Engagement zuließen. Und was waren die Grenzen der Beteiligung der Männer an der ersten Frauenbewegung? \nUm Anmeldung zu den Veranstaltungen wird gebeten. Nutzen Sie hierzu bitte AnmeldungArchiv@stadt-koeln.de.
URL:https://www.freunde-des-historischen-archivs.de/veranstaltung/maenner-in-der-ersten-frauenbewegung-in-koeln/
LOCATION:Archivgebäude Eifelwall\, Eifelwall 5\, Köln\, 50675
CATEGORIES:Veranstaltung
ATTACH;FMTTYPE=image/jpeg:https://www.freunde-des-historischen-archivs.de/wp-content/uploads/2025/10/erste-frauenbewegung-banner.jpg
ORGANIZER;CN="Historisches Archiv der Stadt K%C3%B6ln mit Rheinischem Bildarchiv":MAILTO:anmeldungarchiv@stadt-koeln.de
END:VEVENT
END:VCALENDAR